Workbook

Sheet Trip overview
A1: Travel itinerary
A2: Fill in the white cells. Dates on the Day by day sheet follow the start date.
A4: Trip name
A5: Destinations
A6: Start date
A7: End date
A8: Travellers
A9: Where we stay (address)
A10: Emergency contact
A11: Travel insurance (policy and phone)
A12: Notes
A14: Free template from aiagentsfortravel.com/guides/travel-itinerary-template/

Sheet Day by day
A1: Day | B1: Date | C1: Time | D1: Activity or place | E1: Area or address | F1: Book ahead? | G1: Confirmation number | H1: Estimated cost | I1: Notes
A2: 1 | B2: =IF('Trip overview'!$B$6="","",'Trip overview'!$B$6+0) | C2: Morning
A3: 1 | B3: =IF('Trip overview'!$B$6="","",'Trip overview'!$B$6+0) | C3: Afternoon
A4: 1 | B4: =IF('Trip overview'!$B$6="","",'Trip overview'!$B$6+0) | C4: Evening
A5: 2 | B5: =IF('Trip overview'!$B$6="","",'Trip overview'!$B$6+1) | C5: Morning
A6: 2 | B6: =IF('Trip overview'!$B$6="","",'Trip overview'!$B$6+1) | C6: Afternoon
A7: 2 | B7: =IF('Trip overview'!$B$6="","",'Trip overview'!$B$6+1) | C7: Evening
A8: 3 | B8: =IF('Trip overview'!$B$6="","",'Trip overview'!$B$6+2) | C8: Morning
A9: 3 | B9: =IF('Trip overview'!$B$6="","",'Trip overview'!$B$6+2) | C9: Afternoon
A10: 3 | B10: =IF('Trip overview'!$B$6="","",'Trip overview'!$B$6+2) | C10: Evening
A11: 4 | B11: =IF('Trip overview'!$B$6="","",'Trip overview'!$B$6+3) | C11: Morning
A12: 4 | B12: =IF('Trip overview'!$B$6="","",'Trip overview'!$B$6+3) | C12: Afternoon
A13: 4 | B13: =IF('Trip overview'!$B$6="","",'Trip overview'!$B$6+3) | C13: Evening
A14: 5 | B14: =IF('Trip overview'!$B$6="","",'Trip overview'!$B$6+4) | C14: Morning
A15: 5 | B15: =IF('Trip overview'!$B$6="","",'Trip overview'!$B$6+4) | C15: Afternoon
A16: 5 | B16: =IF('Trip overview'!$B$6="","",'Trip overview'!$B$6+4) | C16: Evening
A17: 6 | B17: =IF('Trip overview'!$B$6="","",'Trip overview'!$B$6+5) | C17: Morning
A18: 6 | B18: =IF('Trip overview'!$B$6="","",'Trip overview'!$B$6+5) | C18: Afternoon
A19: 6 | B19: =IF('Trip overview'!$B$6="","",'Trip overview'!$B$6+5) | C19: Evening
A20: 7 | B20: =IF('Trip overview'!$B$6="","",'Trip overview'!$B$6+6) | C20: Morning
A21: 7 | B21: =IF('Trip overview'!$B$6="","",'Trip overview'!$B$6+6) | C21: Afternoon
A22: 7 | B22: =IF('Trip overview'!$B$6="","",'Trip overview'!$B$6+6) | C22: Evening
A23: 8 | B23: =IF('Trip overview'!$B$6="","",'Trip overview'!$B$6+7) | C23: Morning
A24: 8 | B24: =IF('Trip overview'!$B$6="","",'Trip overview'!$B$6+7) | C24: Afternoon
A25: 8 | B25: =IF('Trip overview'!$B$6="","",'Trip overview'!$B$6+7) | C25: Evening
A26: 9 | B26: =IF('Trip overview'!$B$6="","",'Trip overview'!$B$6+8) | C26: Morning
A27: 9 | B27: =IF('Trip overview'!$B$6="","",'Trip overview'!$B$6+8) | C27: Afternoon
A28: 9 | B28: =IF('Trip overview'!$B$6="","",'Trip overview'!$B$6+8) | C28: Evening
A29: 10 | B29: =IF('Trip overview'!$B$6="","",'Trip overview'!$B$6+9) | C29: Morning
A30: 10 | B30: =IF('Trip overview'!$B$6="","",'Trip overview'!$B$6+9) | C30: Afternoon
A31: 10 | B31: =IF('Trip overview'!$B$6="","",'Trip overview'!$B$6+9) | C31: Evening
A32: 11 | B32: =IF('Trip overview'!$B$6="","",'Trip overview'!$B$6+10) | C32: Morning
A33: 11 | B33: =IF('Trip overview'!$B$6="","",'Trip overview'!$B$6+10) | C33: Afternoon
A34: 11 | B34: =IF('Trip overview'!$B$6="","",'Trip overview'!$B$6+10) | C34: Evening
A35: 12 | B35: =IF('Trip overview'!$B$6="","",'Trip overview'!$B$6+11) | C35: Morning
A36: 12 | B36: =IF('Trip overview'!$B$6="","",'Trip overview'!$B$6+11) | C36: Afternoon
A37: 12 | B37: =IF('Trip overview'!$B$6="","",'Trip overview'!$B$6+11) | C37: Evening
A38: 13 | B38: =IF('Trip overview'!$B$6="","",'Trip overview'!$B$6+12) | C38: Morning
A39: 13 | B39: =IF('Trip overview'!$B$6="","",'Trip overview'!$B$6+12) | C39: Afternoon
A40: 13 | B40: =IF('Trip overview'!$B$6="","",'Trip overview'!$B$6+12) | C40: Evening
...

Sheet Bookings
A1: Type | B1: What | C1: Booked through | D1: Who provides it | E1: Confirmation number | F1: From (date and time) | G1: To (date and time) | H1: Free cancellation until | I1: Cost | J1: Paid? | K1: Notes
H22: Total | I22: =SUM(I2:I21)
A24: "Booked through" is the site or app you used; "Who provides it" is the airline, hotel or operator whose change and refund rules apply.

Sheet Budget
A1: Category | B1: Planned | C1: Spent | D1: Left
A2: Flights | D2: =B2-C2
A3: Stays | D3: =B3-C3
A4: Local transport | D4: =B4-C4
A5: Food and drink | D5: =B5-C5
A6: Tours and tickets | D6: =B6-C6
A7: Travel insurance | D7: =B7-C7
A8: Shopping and extras | D8: =B8-C8
A9: Total | B9: =SUM(B2:B8) | C9: =SUM(C2:C8) | D9: =SUM(D2:D8)
A11: Currency:
